BEGIN:VCALENDAR
VERSION:2.0
PRODID:-//http://laketoxawayumc.org///NONSGML kigkonsult.se iCalcreator 2.10.15//
METHOD:PUBLISH
BEGIN:VEVENT
UID:20260426T024112UTC-6353gOliMd@http://laketoxawayumc.org/
DTSTAMP:20260426T024112Z
DESCRIPTION:Don McSwain - September Counter http://laketoxawayumc.org/index
 .php/communications/calendar/event/301-beth-holimon-september-counter
DTSTART;VALUE=DATE:20230901
LOCATION:Lake Toxaway United Methodist Church (174 Cold Mountain Road Lake 
 Toxaway\, NC 28747)
SUMMARY:Beth Holimon - September Counter
URL:http://laketoxawayumc.org/index.php/communications/calendar/event/301-b
 eth-holimon-september-counter
END:VEVENT
END:VCALENDAR
