BEGIN:VCALENDAR
VERSION:2.0
PRODID:-//http://laketoxawayumc.org///NONSGML kigkonsult.se iCalcreator 2.10.15//
METHOD:PUBLISH
BEGIN:VEVENT
UID:20260426T024018UTC-92082mZi4x@http://laketoxawayumc.org/
DTSTAMP:20260426T024018Z
DESCRIPTION:John Lefler - October Counter http://laketoxawayumc.org/index.p
 hp/communications/calendar/event/302-john-lefler-october-counter
DTSTART;VALUE=DATE:20231001
LOCATION:Lake Toxaway United Methodist Church (174 Cold Mountain Road Lake 
 Toxaway\, NC 28747)
SUMMARY:John Lefler - October Counter
URL:http://laketoxawayumc.org/index.php/communications/calendar/event/302-j
 ohn-lefler-october-counter
END:VEVENT
END:VCALENDAR
