BEGIN:VCALENDAR
VERSION:2.0
PRODID:-//http://laketoxawayumc.org///NONSGML kigkonsult.se iCalcreator 2.10.15//
METHOD:PUBLISH
BEGIN:VEVENT
UID:20260426T024221UTC-2026PWIvvW@http://laketoxawayumc.org/
DTSTAMP:20260426T024221Z
DESCRIPTION:John L. - November Counter http://laketoxawayumc.org/index.php/
 communications/calendar/event/303-john-l-november-counter
DTSTART;VALUE=DATE:20231101
LOCATION:Lake Toxaway United Methodist Church (174 Cold Mountain Road Lake 
 Toxaway\, NC 28747)
SUMMARY:John L. - November Counter
URL:http://laketoxawayumc.org/index.php/communications/calendar/event/303-j
 ohn-l-november-counter
END:VEVENT
END:VCALENDAR
