BEGIN:VCALENDAR
VERSION:2.0
PRODID:-//http://laketoxawayumc.org///NONSGML kigkonsult.se iCalcreator 2.10.15//
METHOD:PUBLISH
BEGIN:VEVENT
UID:20260426T024112UTC-1655DwrjIv@http://laketoxawayumc.org/
DTSTAMP:20260426T024112Z
DESCRIPTION:John L. - December Counter http://laketoxawayumc.org/index.php/
 communications/calendar/event/304-john-l-december-counter
DTSTART;VALUE=DATE:20231201
LOCATION:Lake Toxaway United Methodist Church (174 Cold Mountain Road Lake 
 Toxaway\, NC 28747)
SUMMARY:John L. - December Counter
URL:http://laketoxawayumc.org/index.php/communications/calendar/event/304-j
 ohn-l-december-counter
END:VEVENT
END:VCALENDAR
