BEGIN:VCALENDAR
VERSION:2.0
PRODID:-//http://laketoxawayumc.org///NONSGML kigkonsult.se iCalcreator 2.10.15//
METHOD:PUBLISH
BEGIN:VEVENT
UID:20260426T024721UTC-44132Aih2v@http://laketoxawayumc.org/
DTSTAMP:20260426T024721Z
DESCRIPTION:Lake Toxaway Garden Club 9:00 - 12:00 Fellowship Hall (Barb She
 vory) http://laketoxawayumc.org/index.php/communications/calendar/event/35
 2-lake-toxaway-garden-club-9-00-12-00-fellowship-hall-barb-shevory
DTSTART:20230824T130000Z
DTEND:20230824T160000Z
LOCATION:Lake Toxaway United Methodist Church (174 Cold Mountain Road Lake 
 Toxaway\, NC 28747)
SUMMARY:Lake Toxaway Garden Club 9:00 - 12:00 Fellowship Hall (Barb Shevory
 )
URL:http://laketoxawayumc.org/index.php/communications/calendar/event/352-l
 ake-toxaway-garden-club-9-00-12-00-fellowship-hall-barb-shevory
END:VEVENT
END:VCALENDAR
