BEGIN:VCALENDAR
VERSION:2.0
PRODID:-//http://laketoxawayumc.org///NONSGML kigkonsult.se iCalcreator 2.10.15//
METHOD:PUBLISH
BEGIN:VEVENT
UID:20260426T024343UTC-59125OFb26@http://laketoxawayumc.org/
DTSTAMP:20260426T024343Z
DESCRIPTION:New Fellowship Hall Construction Sept 2023 ~ May 2024\nJ Davis 
 Construction will be using the current Fellowship Hall Mon - Friday 8-5.\n
 No&nbsp\; weekly access for anyone for the current Fellowship Hall&nbsp\;
 \nQuestions? Please contact Scott Walter\, Building Committee Chair http:/
 /laketoxawayumc.org/index.php/communications/calendar/event/357-new-fellow
 ship-hall-construction-sept-2023-may-2024-scott-walter
DTSTART;VALUE=DATE:20230905
LOCATION:Lake Toxaway United Methodist Church (174 Cold Mountain Road Lake 
 Toxaway\, NC 28747)
SUMMARY:New Fellowship Hall Construction Sept 2023 ~ May 2024 (Scott Walter
 )
URL:http://laketoxawayumc.org/index.php/communications/calendar/event/357-n
 ew-fellowship-hall-construction-sept-2023-may-2024-scott-walter
END:VEVENT
END:VCALENDAR
