BEGIN:VCALENDAR
VERSION:2.0
PRODID:-//http://laketoxawayumc.org///NONSGML kigkonsult.se iCalcreator 2.10.15//
METHOD:PUBLISH
BEGIN:VEVENT
UID:20260426T024348UTC-79281Ns0nD@http://laketoxawayumc.org/
DTSTAMP:20260426T024348Z
DESCRIPTION:Flowers on the Altar: Scott S. &amp\; Nancee S. http://laketoxa
 wayumc.org/index.php/communications/calendar/event/359-flowers-on-the-alta
 r-scott-s-nancee-s
DTSTART;VALUE=DATE:20231022
LOCATION:Lake Toxaway United Methodist Church (174 Cold Mountain Road Lake 
 Toxaway\, NC 28747)
SUMMARY:Flowers on the Altar: Scott S. & Nancee S.
URL:http://laketoxawayumc.org/index.php/communications/calendar/event/359-f
 lowers-on-the-altar-scott-s-nancee-s
END:VEVENT
END:VCALENDAR
