BEGIN:VCALENDAR
VERSION:2.0
PRODID:-//http://laketoxawayumc.org///NONSGML kigkonsult.se iCalcreator 2.10.15//
METHOD:PUBLISH
BEGIN:VEVENT
UID:20260426T024349UTC-0279V1lnWo@http://laketoxawayumc.org/
DTSTAMP:20260426T024349Z
DESCRIPTION:Flowers on the Altar: Tom &amp\; Kay B. http://laketoxawayumc.o
 rg/index.php/communications/calendar/event/360-flowers-on-the-altar-tom-ka
 y-b
DTSTART;VALUE=DATE:20231029
LOCATION:Lake Toxaway United Methodist Church (174 Cold Mountain Road Lake 
 Toxaway\, NC 28747)
SUMMARY:Flowers on the Altar: Tom & Kay B.
URL:http://laketoxawayumc.org/index.php/communications/calendar/event/360-f
 lowers-on-the-altar-tom-kay-b
END:VEVENT
END:VCALENDAR
