BEGIN:VCALENDAR
VERSION:2.0
PRODID:-//http://laketoxawayumc.org///NONSGML kigkonsult.se iCalcreator 2.10.15//
METHOD:PUBLISH
BEGIN:VEVENT
UID:20260426T024521UTC-3785DN4Eb0@http://laketoxawayumc.org/
DTSTAMP:20260426T024521Z
DESCRIPTION:Communion Sunday thus no flowers on the Altar http://laketoxawa
 yumc.org/index.php/communications/calendar/event/364-communion-sunday-thus
 -no-flowers-on-the-altar
DTSTART;VALUE=DATE:20240204
LOCATION:Lake Toxaway United Methodist Church (174 Cold Mountain Road Lake 
 Toxaway\, NC 28747)
SUMMARY:Communion Sunday thus no flowers on the Altar
URL:http://laketoxawayumc.org/index.php/communications/calendar/event/364-c
 ommunion-sunday-thus-no-flowers-on-the-altar
END:VEVENT
END:VCALENDAR
