BEGIN:VCALENDAR
VERSION:2.0
PRODID:-//http://laketoxawayumc.org///NONSGML kigkonsult.se iCalcreator 2.10.15//
METHOD:PUBLISH
BEGIN:VEVENT
UID:20260426T010702UTC-62479uoJ3N@http://laketoxawayumc.org/
DTSTAMP:20260426T010702Z
DESCRIPTION:Flowers on the Altar: Drew &amp\; Kellie P. http://laketoxawayu
 mc.org/index.php/communications/calendar/event/376-flowers-on-the-altar-dr
 ew-kellie-p
DTSTART;VALUE=DATE:20231112
LOCATION:Lake Toxaway United Methodist Church (174 Cold Mountain Road Lake 
 Toxaway\, NC 28747)
SUMMARY:Flowers on the Altar: Drew & Kellie P.
URL:http://laketoxawayumc.org/index.php/communications/calendar/event/376-f
 lowers-on-the-altar-drew-kellie-p
END:VEVENT
END:VCALENDAR
