BEGIN:VCALENDAR
VERSION:2.0
PRODID:-//http://laketoxawayumc.org///NONSGML kigkonsult.se iCalcreator 2.10.15//
METHOD:PUBLISH
BEGIN:VEVENT
UID:20260426T024342UTC-9455r6kkWh@http://laketoxawayumc.org/
DTSTAMP:20260426T024342Z
DESCRIPTION:Flowers on the Altar: Sam &amp\; Marilyn G. http://laketoxawayu
 mc.org/index.php/communications/calendar/event/377-flowers-on-the-altar-sa
 m-marilyn-g
DTSTART;VALUE=DATE:20231119
LOCATION:Lake Toxaway United Methodist Church (174 Cold Mountain Road Lake 
 Toxaway\, NC 28747)
SUMMARY:Flowers on the Altar: Sam & Marilyn G.
URL:http://laketoxawayumc.org/index.php/communications/calendar/event/377-f
 lowers-on-the-altar-sam-marilyn-g
END:VEVENT
END:VCALENDAR
