BEGIN:VCALENDAR
VERSION:2.0
PRODID:-//http://laketoxawayumc.org///NONSGML kigkonsult.se iCalcreator 2.10.15//
METHOD:PUBLISH
BEGIN:VEVENT
UID:20260426T024452UTC-1205afRDkb@http://laketoxawayumc.org/
DTSTAMP:20260426T024452Z
DESCRIPTION:Flowers on the Altar: Marilyn Ellyson http://laketoxawayumc.org
 /index.php/communications/calendar/event/378-flowers-on-the-altar-marilyn-
 ellyson
DTSTART;VALUE=DATE:20231126
LOCATION:Lake Toxaway United Methodist Church (174 Cold Mountain Road Lake 
 Toxaway\, NC 28747)
SUMMARY:Flowers on the Altar: Marilyn Ellyson
URL:http://laketoxawayumc.org/index.php/communications/calendar/event/378-f
 lowers-on-the-altar-marilyn-ellyson
END:VEVENT
END:VCALENDAR
