BEGIN:VCALENDAR
VERSION:2.0
PRODID:-//http://laketoxawayumc.org///NONSGML kigkonsult.se iCalcreator 2.10.15//
METHOD:PUBLISH
BEGIN:VEVENT
UID:20260426T024608UTC-6206oAJtLR@http://laketoxawayumc.org/
DTSTAMP:20260426T024608Z
DESCRIPTION:Flowers on the Altar: Scott S. &amp\; Nancee S. http://laketoxa
 wayumc.org/index.php/communications/calendar/event/380-flowers-on-the-alta
 r-for-december-the-dodsons-klines
DTSTART;VALUE=DATE:20231217
LOCATION:Lake Toxaway United Methodist Church (174 Cold Mountain Road Lake 
 Toxaway\, NC 28747)
SUMMARY:Flowers on the Altar for December: The Dodsons & Klines
URL:http://laketoxawayumc.org/index.php/communications/calendar/event/380-f
 lowers-on-the-altar-for-december-the-dodsons-klines
END:VEVENT
END:VCALENDAR
