BEGIN:VCALENDAR
VERSION:2.0
PRODID:-//http://laketoxawayumc.org///NONSGML kigkonsult.se iCalcreator 2.10.15//
METHOD:PUBLISH
BEGIN:VEVENT
UID:20260426T024415UTC-1729wuGduL@http://laketoxawayumc.org/
DTSTAMP:20260426T024415Z
DESCRIPTION:Offsite Coffee Hour: Jon Finstrom &amp\; Brenda Morris\nDirecti
 ons:&nbsp\;2686 Kim Miller Road.\, Lake Toxaway\, NC 28747\nComing from ch
 urch turn left on NC 281 and then turn right (only option) on Kim Miller. 
 After crossing the bridge and going up the hill\, Kim Miller makes a left 
 and then an immediate right. Our driveway is on the outside radius of the 
 curve to the right and there is a “2686” sign there as well.&nbsp\; There 
 are two metal 'snowflake' sculptures.&nbsp\; The driveway is 1/4 mile long
 \, follow it through the gates and at the “Y” in the road stay left and co
 ntinue to to the “pond house” which is on the right. The pond house has he
 aters etc. but is open sided so a coat or jacket is a good idea. http://la
 ketoxawayumc.org/index.php/communications/calendar/event/383-offsite-coffe
 e-hour-jon-finstrom-brenda-morris
DTSTART;VALUE=DATE:20231105
LOCATION:Lake Toxaway United Methodist Church (174 Cold Mountain Road Lake 
 Toxaway\, NC 28747)
SUMMARY:Offsite Coffee Hour: Jon Finstrom & Brenda Morris 
URL:http://laketoxawayumc.org/index.php/communications/calendar/event/383-o
 ffsite-coffee-hour-jon-finstrom-brenda-morris
END:VEVENT
END:VCALENDAR
