BEGIN:VCALENDAR
VERSION:2.0
PRODID:-//http://laketoxawayumc.org///NONSGML kigkonsult.se iCalcreator 2.10.15//
METHOD:PUBLISH
BEGIN:VEVENT
UID:20260426T024338UTC-1347ncgiP4@http://laketoxawayumc.org/
DTSTAMP:20260426T024338Z
DESCRIPTION:John L. - Counter http://laketoxawayumc.org/index.php/communica
 tions/calendar/event/390-john-l-february-counter
DTSTART;VALUE=DATE:20240201
LOCATION:Lake Toxaway United Methodist Church (174 Cold Mountain Road Lake 
 Toxaway\, NC 28747)
SUMMARY:John L. - February Counter
URL:http://laketoxawayumc.org/index.php/communications/calendar/event/390-j
 ohn-l-february-counter
END:VEVENT
END:VCALENDAR
