BEGIN:VCALENDAR
VERSION:2.0
PRODID:-//http://laketoxawayumc.org///NONSGML kigkonsult.se iCalcreator 2.10.15//
METHOD:PUBLISH
BEGIN:VEVENT
UID:20260426T040957UTC-7134xbDVpo@http://laketoxawayumc.org/
DTSTAMP:20260426T040957Z
DESCRIPTION:&nbsp\;\nThe Prayer Ministry meets the 2nd and 4th Wednesday of
  each month at 9:30 AM in the church. If you have a prayer request and can
 not make it in person\, please e-mail it to LTUMCPrayerRequests@gmail.com 
  http://laketoxawayumc.org/index.php/communications/calendar/event/588-pra
 yer-ministry
DTSTART:20251022T133000Z
DTEND:20251022T143000Z
LOCATION:Lake Toxaway United Methodist Church (174 Cold Mountain Road Lake 
 Toxaway\, NC 28747)
SUMMARY:Prayer Ministry
URL:http://laketoxawayumc.org/index.php/communications/calendar/event/588-p
 rayer-ministry
END:VEVENT
END:VCALENDAR
