BEGIN:VCALENDAR
VERSION:2.0
PRODID:-//http://laketoxawayumc.org///NONSGML kigkonsult.se iCalcreator 2.10.15//
METHOD:PUBLISH
BEGIN:VEVENT
UID:20260426T040726UTC-4574cbEAo7@http://laketoxawayumc.org/
DTSTAMP:20260426T040726Z
DESCRIPTION:AA Meeting - in the Dice Hall\n\n&nbsp\; http://laketoxawayumc.
 org/index.php/communications/calendar/event/645-aa-meeting
DTSTART:20251120T210000Z
DTEND:20251121T000000Z
LOCATION:Lake Toxaway United Methodist Church (174 Cold Mountain Road Lake 
 Toxaway\, NC 28747)
SUMMARY: AA Meeting
URL:http://laketoxawayumc.org/index.php/communications/calendar/event/645-a
 a-meeting
END:VEVENT
END:VCALENDAR
