BEGIN:VCALENDAR
VERSION:2.0
PRODID:-//http://laketoxawayumc.org///NONSGML kigkonsult.se iCalcreator 2.10.15//
METHOD:PUBLISH
BEGIN:VEVENT
UID:20260426T041029UTC-6536R8iXUG@http://laketoxawayumc.org/
DTSTAMP:20260426T041029Z
DESCRIPTION:The following date has been scheduled for the last Administrati
 ve Council meeting for 2025: \nFriday\, October 24\nThe meeting times are 
 10:00 AM in&nbsp\;the Bill Minnich conference room.&nbsp\; Please reach ou
 t to Scott Walter with your questions. http://laketoxawayumc.org/index.php
 /communications/calendar/event/653-administrative-council-meeting
DTSTART:20251024T140000Z
DTEND:20251024T160000Z
LOCATION:Lake Toxaway United Methodist Church (174 Cold Mountain Road Lake 
 Toxaway\, NC 28747)
SUMMARY:Administrative Council Meeting
URL:http://laketoxawayumc.org/index.php/communications/calendar/event/653-a
 dministrative-council-meeting
END:VEVENT
END:VCALENDAR
