BEGIN:VCALENDAR
VERSION:2.0
PRODID:-//http://laketoxawayumc.org///NONSGML kigkonsult.se iCalcreator 2.10.15//
METHOD:PUBLISH
BEGIN:VEVENT
UID:20260426T041305UTC-1760vVo1MZ@http://laketoxawayumc.org/
DTSTAMP:20260426T041305Z
DESCRIPTION:Lake Toxaway Garden Club&nbsp\;October 2025 meeting http://lake
 toxawayumc.org/index.php/communications/calendar/event/661-lt-garden-club
DTSTART:20251023T123000Z
DTEND:20251023T160000Z
LOCATION:Lake Toxaway United Methodist Church (174 Cold Mountain Road Lake 
 Toxaway\, NC 28747)
SUMMARY:LT Garden Club
URL:http://laketoxawayumc.org/index.php/communications/calendar/event/661-l
 t-garden-club
END:VEVENT
END:VCALENDAR
