BEGIN:VCALENDAR
VERSION:2.0
PRODID:-//http://laketoxawayumc.org///NONSGML kigkonsult.se iCalcreator 2.10.15//
METHOD:PUBLISH
BEGIN:VEVENT
UID:20260426T041405UTC-6236EivMnW@http://laketoxawayumc.org/
DTSTAMP:20260426T041405Z
DESCRIPTION:Tyler 'Ty' Anne Giglio / Andrew Hewling Wedding\n10/17/26 5:00 
 PM http://laketoxawayumc.org/index.php/communications/calendar/event/669-t
 yler-ty-anne-giglio-andrew-hewling-wedding
DTSTART:20261017T190000Z
DTEND:20261017T230000Z
LOCATION:Lake Toxaway United Methodist Church (174 Cold Mountain Road Lake 
 Toxaway\, NC 28747)
SUMMARY:Tyler 'Ty' Anne Giglio / Andrew Hewling Wedding
URL:http://laketoxawayumc.org/index.php/communications/calendar/event/669-t
 yler-ty-anne-giglio-andrew-hewling-wedding
END:VEVENT
END:VCALENDAR
